BEGIN:VCALENDAR
VERSION:2.0
PRODID:-//Scotland County Beekeepers Association - ECPv6.2.7//NONSGML v1.0//EN
CALSCALE:GREGORIAN
METHOD:PUBLISH
X-WR-CALNAME:Scotland County Beekeepers Association
X-ORIGINAL-URL:https://scotlandcountybeekeepers.org
X-WR-CALDESC:Events for Scotland County Beekeepers Association
REFRESH-INTERVAL;VALUE=DURATION:PT1H
X-Robots-Tag:noindex
X-PUBLISHED-TTL:PT1H
BEGIN:VTIMEZONE
TZID:America/New_York
BEGIN:DAYLIGHT
TZOFFSETFROM:-0500
TZOFFSETTO:-0400
TZNAME:EDT
DTSTART:20200308T070000
END:DAYLIGHT
BEGIN:STANDARD
TZOFFSETFROM:-0400
TZOFFSETTO:-0500
TZNAME:EST
DTSTART:20201101T060000
END:STANDARD
END:VTIMEZONE
BEGIN:VEVENT
DTSTART;TZID=America/New_York:20200204T183000
DTEND;TZID=America/New_York:20200204T203000
DTSTAMP:20260418T110403
CREATED:20200107T204332Z
LAST-MODIFIED:20200107T204332Z
UID:81-1580841000-1580848200@scotlandcountybeekeepers.org
SUMMARY:February Meeting
DESCRIPTION:February Meeting
URL:https://scotlandcountybeekeepers.org/event/february-meeting/
LOCATION:NC Cooperative Extension Office\, 231 E. Cronly St.\, Suite 800\, Laurinburg\, NC\, 28352\, United States
CATEGORIES:Monthly meeting
END:VEVENT
BEGIN:VEVENT
DTSTART;TZID=America/New_York:20200208T090000
DTEND;TZID=America/New_York:20200208T140000
DTSTAMP:20260418T110403
CREATED:20200108T013147Z
LAST-MODIFIED:20200108T013147Z
UID:71-1581152400-1581170400@scotlandcountybeekeepers.org
SUMMARY:Beginner Beekeeping School
DESCRIPTION:
URL:https://scotlandcountybeekeepers.org/event/beginner-beekeeping-school/
LOCATION:Scotland County Emergency Operations Center\, 1403 West Boulevard\, Laurinburg\, NC\, 28352
END:VEVENT
END:VCALENDAR